BEGIN:VCALENDAR
VERSION:2.0
PRODID:-//ChamberMaster//Event Calendar 2.0//EN
METHOD:PUBLISH
X-PUBLISHED-TTL:P3D
REFRESH-INTERVAL:P3D
CALSCALE:GREGORIAN
BEGIN:VEVENT
DTSTART:20210629T150000Z
DTEND:20210702T200000Z
X-MICROSOFT-CDO-ALLDAYEVENT:FALSE
SUMMARY:Whataburger Interviews
DESCRIPTION:WHATABURGER INTERVIEWS\n\n\n\nLOCATION: Natchitoches America Job Center\n\n303 Bienville Street\n\nNatchitoches\, LA\n\n\n\nTimes and Dates Listed Below\n\nTUESDAY 6-29-21 10:00 AM TO 3:00 PM\n\nWEDNESDAY 6-30-21 10:00 AM TO 3:00 PM\n\nTHURSDAY 7-1-21 11:30 AM TO 2:00 PM\n\n \n\nPlease apply online www.pleaseapplyonline.com/gvcs\n\n \n\nMUST WEAR A MASK\n\nWILL HIRE 16 AND 17 YEARS OLDS
X-ALT-DESC;FMTTYPE=text/html:WHATABURGER INTERVIEWS<br>\n<br>\nLOCATION: Natchitoches America Job Center<br>\n303 Bienville Street<br>\nNatchitoches\, LA<br>\n<br>\nTimes and Dates Listed Below<br>\nTUESDAY 6-29-21 10:00 AM TO 3:00 PM<br>\nWEDNESDAY 6-30-21 10:00 AM TO 3:00 PM<br>\nTHURSDAY 7-1-21 11:30 AM TO 2:00 PM<br>\n&nbsp\;<br>\nPlease apply online <a href="https://urldefense.proofpoint.com/v2/url?u=http-3A__www.pleaseapplyonline.com_gvcs&amp\;d=DwQFAg&amp\;c=xlPCXuHzMdaH2Flc1sgyicYpGQbQbU9KDEmgNF3_wI0&amp\;r=rztBN09mW4e8GYj1ftdZ7JRBGta8KPlHhPGSM_HkYRA&amp\;m=3gv8J_nYSNYZUHrUzreuoMLNhJGL4cHOYk45yElXNy4&amp\;s=VfRZUww7qcxQkuXuWQ0GUVR5mxsZtLtpquoQVYszSxs&amp\;e=">www.pleaseapplyonline.com/gvcs</a><br>\n&nbsp\;<br>\nMUST WEAR A MASK<br>\nWILL HIRE 16 AND 17 YEARS OLDS
LOCATION:Natchitoches America Job Center 303 Bienville Street Natchitoches\, LA 71457
UID:e.1221.60415
SEQUENCE:3
DTSTAMP:20260425T191622Z
URL:http://natchitocheschamber.chambermaster.com/events/details/whataburger-interviews-60415
END:VEVENT

END:VCALENDAR
